BEGIN:VCALENDAR
VERSION:2.0
PRODID:-//ESV D‘ Eisratz’n Schaftlach e. V. - ECPv5.8.0//NONSGML v1.0//EN
CALSCALE:GREGORIAN
METHOD:PUBLISH
X-WR-CALNAME:ESV D‘ Eisratz’n Schaftlach e. V.
X-ORIGINAL-URL:http://eisratzn.de
X-WR-CALDESC:Veranstaltungen für ESV D‘ Eisratz’n Schaftlach e. V.
BEGIN:VTIMEZONE
TZID:Europe/Berlin
BEGIN:DAYLIGHT
TZOFFSETFROM:+0100
TZOFFSETTO:+0200
TZNAME:CEST
DTSTART:20240331T010000
END:DAYLIGHT
BEGIN:STANDARD
TZOFFSETFROM:+0200
TZOFFSETTO:+0100
TZNAME:CET
DTSTART:20241027T010000
END:STANDARD
END:VTIMEZONE
BEGIN:VEVENT
DTSTART;TZID=Europe/Berlin:20240419T180000
DTEND;TZID=Europe/Berlin:20240419T233000
DTSTAMP:20260426T022421
CREATED:20240217T111326Z
LAST-MODIFIED:20240217T111326Z
UID:560-1713549600-1713569400@eisratzn.de
SUMMARY:SG Sachsenkam 3 Kampf
DESCRIPTION:
URL:http://eisratzn.de/event/sg-sachsenkam-3-kampf/
END:VEVENT
END:VCALENDAR